BEGIN:VCALENDAR
VERSION:2.0
PRODID:-//horseshelpswi.org//NONSGML kigkonsult.se iCalcreator 2.30.10//
CALSCALE:GREGORIAN
METHOD:PUBLISH
UID:e1c66914-157a-450f-a736-0d34bb81b161
X-WR-CALDESC:
X-WR-RELCALID:41de50071e98c581dc2d608b775e61e5
X-WR-TIMEZONE:America/Chicago
BEGIN:VTIMEZONE
TZID:America/Chicago
BEGIN:STANDARD
TZNAME:CST
DTSTART:20251102T020000
TZOFFSETFROM:-0500
TZOFFSETTO:-0600
RDATE:20261101T020000
RDATE:20271107T020000
END:STANDARD
BEGIN:DAYLIGHT
TZNAME:CDT
DTSTART:20260308T020000
TZOFFSETFROM:-0600
TZOFFSETTO:-0500
RDATE:20270314T020000
END:DAYLIGHT
END:VTIMEZONE
BEGIN:VEVENT
UID:2fd48b65-3b56-4b3d-a27a-37cafe95a454
DTSTAMP:20260422T055233Z
DESCRIPTION:
DTSTART;TZID=America/Chicago:20260517T130000
DTEND;TZID=America/Chicago:20260517T150000
LOCATION:14679 230th St\, Council Bluffs\, IA 51503 US
SUMMARY:Spring Fling Open House
END:VEVENT
END:VCALENDAR
